BEGIN:VCALENDAR
VERSION:2.0
PRODID:-// - ECPv6.15.20//NONSGML v1.0//EN
CALSCALE:GREGORIAN
METHOD:PUBLISH
X-ORIGINAL-URL:https://delawaredha.org
X-WR-CALDESC:Events for 
REFRESH-INTERVAL;VALUE=DURATION:PT1H
X-Robots-Tag:noindex
X-PUBLISHED-TTL:PT1H
BEGIN:VTIMEZONE
TZID:UTC
BEGIN:STANDARD
TZOFFSETFROM:+0000
TZOFFSETTO:+0000
TZNAME:UTC
DTSTART:20230101T000000
END:STANDARD
END:VTIMEZONE
BEGIN:VEVENT
DTSTART;TZID=UTC:20240628T080000
DTEND;TZID=UTC:20240630T170000
DTSTAMP:20260423T223901
CREATED:20240323T030652Z
LAST-MODIFIED:20240323T030652Z
UID:5262-1719561600-1719766800@delawaredha.org
SUMMARY:ADHA HOD
DESCRIPTION:The ADHA House of Delegates Meeting. \nDetails to follow!
URL:https://delawaredha.org/event/adha-hod/
END:VEVENT
BEGIN:VEVENT
DTSTART;TZID=UTC:20240201T080000
DTEND;TZID=UTC:20240229T170000
DTSTAMP:20260423T223901
CREATED:20260201T120126Z
LAST-MODIFIED:20260129T130914Z
UID:5272-1706774400-1709226000@delawaredha.org
SUMMARY:Children's Dental Health Month
DESCRIPTION:
URL:https://delawaredha.org/event/childrens-dental-health-month/
END:VEVENT
END:VCALENDAR